BEGIN:VCALENDAR
VERSION:2.0
PRODID:-//Cub Scouts - Pack 469 - ECPv6.15.16//NONSGML v1.0//EN
CALSCALE:GREGORIAN
METHOD:PUBLISH
X-WR-CALNAME:Cub Scouts - Pack 469
X-ORIGINAL-URL:https://www.pack469.com
X-WR-CALDESC:Events for Cub Scouts - Pack 469
REFRESH-INTERVAL;VALUE=DURATION:PT1H
X-Robots-Tag:noindex
X-PUBLISHED-TTL:PT1H
BEGIN:VTIMEZONE
TZID:America/Chicago
BEGIN:DAYLIGHT
TZOFFSETFROM:-0600
TZOFFSETTO:-0500
TZNAME:CDT
DTSTART:20250309T080000
END:DAYLIGHT
BEGIN:STANDARD
TZOFFSETFROM:-0500
TZOFFSETTO:-0600
TZNAME:CST
DTSTART:20251102T070000
END:STANDARD
BEGIN:DAYLIGHT
TZOFFSETFROM:-0600
TZOFFSETTO:-0500
TZNAME:CDT
DTSTART:20260308T080000
END:DAYLIGHT
BEGIN:STANDARD
TZOFFSETFROM:-0500
TZOFFSETTO:-0600
TZNAME:CST
DTSTART:20261101T070000
END:STANDARD
BEGIN:DAYLIGHT
TZOFFSETFROM:-0600
TZOFFSETTO:-0500
TZNAME:CDT
DTSTART:20270314T080000
END:DAYLIGHT
BEGIN:STANDARD
TZOFFSETFROM:-0500
TZOFFSETTO:-0600
TZNAME:CST
DTSTART:20271107T070000
END:STANDARD
END:VTIMEZONE
BEGIN:VEVENT
DTSTART;TZID=America/Chicago:20260223T170000
DTEND;TZID=America/Chicago:20260223T181500
DTSTAMP:20260421T205356
CREATED:20240615T164820Z
LAST-MODIFIED:20260219T205133Z
UID:1563-1771866000-1771870500@www.pack469.com
SUMMARY:February Pack Meeting
DESCRIPTION:Meet by the fire ring/restroom area \nWe will make hiking sticks together and then take a short hike before sundown\, so please have Scouts bring appropriate outdoor gear and water bottles.
URL:https://www.pack469.com/event/february-pack-meeting-2/
LOCATION:Kickerillo Park
CATEGORIES:Activity,Pack Meeting
END:VEVENT
BEGIN:VEVENT
DTSTART;TZID=America/Chicago:20260222T084500
DTEND;TZID=America/Chicago:20260222T110000
DTSTAMP:20260421T205356
CREATED:20240615T164819Z
LAST-MODIFIED:20260219T210337Z
UID:1562-1771749900-1771758000@www.pack469.com
SUMMARY:Scout Sunday at Lakewood Methodist
DESCRIPTION:
URL:https://www.pack469.com/event/scout-sunday-at-lakewood-methodist/
LOCATION:Lakewood Methodist Church\, 11330 Louetta Road\, Tomball\, TX\, 77070\, United States
CATEGORIES:Activity
END:VEVENT
BEGIN:VEVENT
DTSTART;TZID=America/Chicago:20260221T110000
DTEND;TZID=America/Chicago:20260221T150000
DTSTAMP:20260421T205356
CREATED:20240615T164835Z
LAST-MODIFIED:20260219T210531Z
UID:1568-1771671600-1771686000@www.pack469.com
SUMMARY:Pinewood Derby Race Day
DESCRIPTION:Order for racing: \nWebelos \nLions \nWolves \nTiger \nBears
URL:https://www.pack469.com/event/pinewood-derby-race-day/
LOCATION:Lakewood Elementary School\, 15614 Gettysburg Dr\, Tomball\, Texas\, 77377
CATEGORIES:Activity
END:VEVENT
BEGIN:VEVENT
DTSTART;TZID=America/Chicago:20260220T170000
DTEND;TZID=America/Chicago:20260220T200000
DTSTAMP:20260421T205356
CREATED:20240615T164835Z
LAST-MODIFIED:20260219T203818Z
UID:1569-1771606800-1771617600@www.pack469.com
SUMMARY:Pinewood Derby Weigh In
DESCRIPTION:
URL:https://www.pack469.com/event/pinewoodderby/
LOCATION:Scout Hut\, 11330 Louetta Road\, Tomball\, TX\, 77070\, United States
CATEGORIES:Activity
END:VEVENT
BEGIN:VEVENT
DTSTART;TZID=America/Chicago:20260219T163000
DTEND;TZID=America/Chicago:20260219T180000
DTSTAMP:20260421T205356
CREATED:20240615T164849Z
LAST-MODIFIED:20260219T203400Z
UID:1571-1771518600-1771524000@www.pack469.com
SUMMARY:Pinewood Derby Workshop Day
DESCRIPTION:Tools and art supplies provided
URL:https://www.pack469.com/event/pwd/
LOCATION:Scout Hut\, 11330 Louetta Road\, Tomball\, TX\, 77070\, United States
CATEGORIES:Activity
END:VEVENT
END:VCALENDAR